BEGIN:VCALENDAR
VERSION:2.0
PRODID:-//Freiwillige Feuerwehr Weppersdorf - ECPv6.15.20//NONSGML v1.0//EN
CALSCALE:GREGORIAN
METHOD:PUBLISH
X-ORIGINAL-URL:https://www.ff-weppersdorf.at/web
X-WR-CALDESC:Veranstaltungen für Freiwillige Feuerwehr Weppersdorf
REFRESH-INTERVAL;VALUE=DURATION:PT1H
X-Robots-Tag:noindex
X-PUBLISHED-TTL:PT1H
BEGIN:VTIMEZONE
TZID:Europe/Helsinki
BEGIN:DAYLIGHT
TZOFFSETFROM:+0200
TZOFFSETTO:+0300
TZNAME:EEST
DTSTART:20250330T010000
END:DAYLIGHT
BEGIN:STANDARD
TZOFFSETFROM:+0300
TZOFFSETTO:+0200
TZNAME:EET
DTSTART:20251026T010000
END:STANDARD
BEGIN:DAYLIGHT
TZOFFSETFROM:+0200
TZOFFSETTO:+0300
TZNAME:EEST
DTSTART:20260329T010000
END:DAYLIGHT
BEGIN:STANDARD
TZOFFSETFROM:+0300
TZOFFSETTO:+0200
TZNAME:EET
DTSTART:20261025T010000
END:STANDARD
BEGIN:DAYLIGHT
TZOFFSETFROM:+0200
TZOFFSETTO:+0300
TZNAME:EEST
DTSTART:20270328T010000
END:DAYLIGHT
BEGIN:STANDARD
TZOFFSETFROM:+0300
TZOFFSETTO:+0200
TZNAME:EET
DTSTART:20271031T010000
END:STANDARD
END:VTIMEZONE
BEGIN:VEVENT
DTSTART;TZID=Europe/Helsinki:20260424T170000
DTEND;TZID=Europe/Helsinki:20260424T170000
DTSTAMP:20260419T165517
CREATED:20260106T192648Z
LAST-MODIFIED:20260106T192648Z
UID:9825-1777050000-1777050000@www.ff-weppersdorf.at
SUMMARY:Aufbau Florianiwandertag
DESCRIPTION:
URL:https://www.ff-weppersdorf.at/web/termine/aufbau-florianiwandertag-2/
LOCATION:Feuerwehrhaus Weppersdorf\, Neugasse 6\, Weppersdorf\, Burgenland\, 7331\, Österreich
ATTACH;FMTTYPE=image/jpeg:https://www.ff-weppersdorf.at/web/wp-content/uploads/2026/01/termine-qB2FsY.jpg
END:VEVENT
BEGIN:VEVENT
DTSTART;TZID=Europe/Helsinki:20260425T080000
DTEND;TZID=Europe/Helsinki:20260425T080000
DTSTAMP:20260419T165517
CREATED:20260106T192649Z
LAST-MODIFIED:20260106T192649Z
UID:9826-1777104000-1777104000@www.ff-weppersdorf.at
SUMMARY:Aufbau Florianiwandertag
DESCRIPTION:
URL:https://www.ff-weppersdorf.at/web/termine/aufbau-florianiwandertag-3/
LOCATION:Feuerwehrhaus Weppersdorf\, Neugasse 6\, Weppersdorf\, Burgenland\, 7331\, Österreich
ATTACH;FMTTYPE=image/jpeg:https://www.ff-weppersdorf.at/web/wp-content/uploads/2026/01/termine-qB2FsY.jpg
END:VEVENT
BEGIN:VEVENT
DTSTART;TZID=Europe/Helsinki:20260426T080000
DTEND;TZID=Europe/Helsinki:20260426T080000
DTSTAMP:20260419T165517
CREATED:20260106T192650Z
LAST-MODIFIED:20260106T193054Z
UID:9827-1777190400-1777190400@www.ff-weppersdorf.at
SUMMARY:Florianiwandertag
DESCRIPTION:
URL:https://www.ff-weppersdorf.at/web/termine/florianiwandertag/
LOCATION:Feuerwehrhaus Weppersdorf\, Neugasse 6\, Weppersdorf\, Burgenland\, 7331\, Österreich
ATTACH;FMTTYPE=image/jpeg:https://www.ff-weppersdorf.at/web/wp-content/uploads/2016/04/20160417_florianiwandertag_01.jpg
END:VEVENT
BEGIN:VEVENT
DTSTART;TZID=Europe/Helsinki:20260427T080000
DTEND;TZID=Europe/Helsinki:20260427T080000
DTSTAMP:20260419T165517
CREATED:20260106T192651Z
LAST-MODIFIED:20260106T192651Z
UID:9828-1777276800-1777276800@www.ff-weppersdorf.at
SUMMARY:Abbau Florianiwandertag
DESCRIPTION:
URL:https://www.ff-weppersdorf.at/web/termine/abbau-florianiwandertag/
LOCATION:Feuerwehrhaus Weppersdorf\, Neugasse 6\, Weppersdorf\, Burgenland\, 7331\, Österreich
ATTACH;FMTTYPE=image/jpeg:https://www.ff-weppersdorf.at/web/wp-content/uploads/2026/01/termine-qB2FsY.jpg
END:VEVENT
END:VCALENDAR